BEGIN:VCALENDAR
VERSION:2.0
PRODID:-//Sonic Foundation - ECPv6.15.20//NONSGML v1.0//EN
CALSCALE:GREGORIAN
METHOD:PUBLISH
X-WR-CALNAME:Sonic Foundation
X-ORIGINAL-URL:https://sonicfoundation.dev
X-WR-CALDESC:Events for Sonic Foundation
REFRESH-INTERVAL;VALUE=DURATION:PT1H
X-Robots-Tag:noindex
X-PUBLISHED-TTL:PT1H
BEGIN:VTIMEZONE
TZID:America/Denver
BEGIN:DAYLIGHT
TZOFFSETFROM:-0700
TZOFFSETTO:-0600
TZNAME:MDT
DTSTART:20220313T090000
END:DAYLIGHT
BEGIN:STANDARD
TZOFFSETFROM:-0600
TZOFFSETTO:-0700
TZNAME:MST
DTSTART:20221106T080000
END:STANDARD
BEGIN:DAYLIGHT
TZOFFSETFROM:-0700
TZOFFSETTO:-0600
TZNAME:MDT
DTSTART:20230312T090000
END:DAYLIGHT
BEGIN:STANDARD
TZOFFSETFROM:-0600
TZOFFSETTO:-0700
TZNAME:MST
DTSTART:20231105T080000
END:STANDARD
BEGIN:DAYLIGHT
TZOFFSETFROM:-0700
TZOFFSETTO:-0600
TZNAME:MDT
DTSTART:20240310T090000
END:DAYLIGHT
BEGIN:STANDARD
TZOFFSETFROM:-0600
TZOFFSETTO:-0700
TZNAME:MST
DTSTART:20241103T080000
END:STANDARD
END:VTIMEZONE
BEGIN:VEVENT
DTSTART;TZID=America/Denver:20231017T130000
DTEND;TZID=America/Denver:20231017T170000
DTSTAMP:20260421T120010
CREATED:20230707T185246Z
LAST-MODIFIED:20231005T222143Z
UID:10000003-1697547600-1697562000@sonicfoundation.dev
SUMMARY:SONiC Workshop at OCP Global Summit
DESCRIPTION:The SONiC Foundation would like to invite you to participate in our upcoming SONiC Workshop\, a co-located event at the OCP global summit on October 17\, 2023 from 1-5 pm. Come learn about the latest developments of SONiC from industry experts including innovations in NOS management\, improvements in routing\, software defined networking\, and system design.  \nRegister for the 2023 OCP Global Summit here! OCP Global Summit registration is required to attend SONiC Workshop\, and all Summit passes include entry into the Workshop. \nView the full event schedule here \nSONiC Annual Virtual Hackathon\nIn addition to our call for presentations\, the SONiC Foundation is hosting our annual Hackathon prior to the SONiC Workshop. The Hackathon will be fully virtual. Please review the following guidelines and submit your interest to participate: \n\nTheme: Improve SONiC\nFormat: Remote/Online\n\nTimeline:\n\nSeptember 15: \n\nTeam formation submission deadline (project abstract due at submission)\n\n\nOctober 11-13 (12:00pm PT):\n\nHackathon participation dates\n\n\nOctober 13 (1pm ~ 4pm PT):\n\nKickoff will be hosted live\, and final presentations prior to winner selection is live (or via recording). All teams will be asked to present their idea\, results\, and next steps in a 5 minutes presentation.\n\n\nOctober 17: \n\nThree winners will be selected and presentation recordings will be played to a broader audience during the SONiC Workshop\, a co-located event at OCP Global Summit.\n\n\n\n\nLogistics:\n\nDemo and presentation will be uploaded to a shared online location\nA team may include a maximum of five participants.\nNo more than 3 teams from one participating organization\n\n\nPlease submit your Hackathon ideas here by September 15\, 2023! \nHave questions about the event? Contact eventhelp@sonicfoundation.dev \n 
URL:https://sonicfoundation.dev/event/sonic-workshop-at-ocp-global-summit/
LOCATION:San Jose Convention Center\, 150 W San Carlos Street San Jose\, San Jose\, CA\, 95113\, United States
END:VEVENT
END:VCALENDAR